BEGIN:VCALENDAR
VERSION:2.0
PRODID:-//Department Of Education//924ae687-e836-4bad-a638-d5bf8910e0af
BEGIN:VTIMEZONE
TZID:Australia/Sydney
TZURL:http://tzurl.org/zoneinfo-outlook/Australia/Sydney
X-LIC-LOCATION:Australia/Sydney
BEGIN:STANDARD
TZOFFSETFROM:+1100
TZOFFSETTO:+1000
TZNAME:AEST
DTSTART:19700405T030000
RRULE:FREQ=YEARLY;BYMONTH=4;BYDAY=1SU
END:STANDARD
BEGIN:DAYLIGHT
TZOFFSETFROM:+1000
TZOFFSETTO:+1100
TZNAME:AEDT
DTSTART:19701004T020000
RRULE:FREQ=YEARLY;BYMONTH=10;BYDAY=1SU
END:DAYLIGHT
END:VTIMEZONE
CALSCALE:GREGORIAN
X-WR-TIMEZONE:Australia/Sydney
BEGIN:VEVENT
DTSTART;VALUE=DATE:20200310
DTEND;VALUE=DATE:20200312
DTSTAMP:20200310T000000Z
UID:9c75f8e4-af65-4ea7-968c-ac1ea9c890e7
LOCATION:Outdoor Adventure Camp - 256 Webbs Creek Road, Wisemans Ferry
SUMMARY;LANGUAGE=en-us:Year 7 Camp
SEQUENCE:0
DESCRIPTION:Year 7 students of 2020 are invited to a 2-day camp, that is designed to encourage students to develop their teamwork skills and form new friendships in a safe and supportive environment.   For more information, please refer to the permission note. 
END:VEVENT
TRANSP:TRANSPARENT
END:VCALENDAR
